BEGIN:VCALENDAR
VERSION:2.0
PRODID:-//Sinfonie Orchester - ECPv6.15.18//NONSGML v1.0//EN
CALSCALE:GREGORIAN
METHOD:PUBLISH
X-WR-CALNAME:Sinfonie Orchester
X-ORIGINAL-URL:https://sinfonieorchester.ch/de/
X-WR-CALDESC:Veranstaltungen für Sinfonie Orchester
REFRESH-INTERVAL;VALUE=DURATION:PT1H
X-Robots-Tag:noindex
X-PUBLISHED-TTL:PT1H
BEGIN:VTIMEZONE
TZID:Europe/Zurich
BEGIN:DAYLIGHT
TZOFFSETFROM:+0100
TZOFFSETTO:+0200
TZNAME:CEST
DTSTART:20210328T010000
END:DAYLIGHT
BEGIN:STANDARD
TZOFFSETFROM:+0200
TZOFFSETTO:+0100
TZNAME:CET
DTSTART:20211031T010000
END:STANDARD
BEGIN:DAYLIGHT
TZOFFSETFROM:+0100
TZOFFSETTO:+0200
TZNAME:CEST
DTSTART:20220327T010000
END:DAYLIGHT
BEGIN:STANDARD
TZOFFSETFROM:+0200
TZOFFSETTO:+0100
TZNAME:CET
DTSTART:20221030T010000
END:STANDARD
BEGIN:DAYLIGHT
TZOFFSETFROM:+0100
TZOFFSETTO:+0200
TZNAME:CEST
DTSTART:20230326T010000
END:DAYLIGHT
BEGIN:STANDARD
TZOFFSETFROM:+0200
TZOFFSETTO:+0100
TZNAME:CET
DTSTART:20231029T010000
END:STANDARD
END:VTIMEZONE
BEGIN:VEVENT
DTSTART;TZID=Europe/Zurich:20221109T193000
DTEND;TZID=Europe/Zurich:20221109T213000
DTSTAMP:20260421T214052
CREATED:20220512T152110Z
LAST-MODIFIED:20220905T063339Z
UID:2351-1668022200-1668029400@sinfonieorchester.ch
SUMMARY:5. Arthur Waser Preisträgerkonzert - Mittwoch
DESCRIPTION:Bereits zum fünften Mal wird der Arthur Waser Förderpreis vergeben; dieses Jahr geht er an den 25-jährigen Klarinettisten Jonathan Leibovitz aus Israel. Die Auszeichnung beinhaltet neben einem Preisgeld von 25.000 Franken ein Debüt im KKL Luzern mit dem Luzerner Sinfonieorchester: Am 9. und 10. November wird sich der Preisträger mit dem Klarinettenkonzert von Aaron Copland vorstellen. Es war der legendäre Jazzklarinettist Benny Goodman\, der dieses Konzert bei Copland in Auftrag gegeben hatte. Längst hat es sich als ein beliebtes Standardwerk des Klarinettenrepertoires etabliert. Ebenso beliebt sind Dvořáks «Slawische Tänze» von 1886. «Eine himmlische Natürlichkeit flutet durch diese Musik»\, schrieb damals ein Berliner Kritiker\, «keine Spur von Ergrübeltem und Gemachtem in ihr.» Besser kann man es nicht sagen ‒ jeder Tanz sozusagen ein Volltreffer an melodischer und rhythmischer Klangerfindung. Genau 40 Jahre später schrieb Leoš Janáček seine Sinfonietta: eine patriotische Huldigung an die Stadt Brno (Brünn)\, wo Janáček den Grossteil seines Lebens verbracht hatte. Mächtige Bläserfanfaren erinnern an schmissige Militärmusik\, Volkstanzweisen zeigen die Verbundenheit des Komponisten mit seiner tschechischen Heimat. Es sei ihm in diesem Werk «am besten gelungen\, sich so dicht wie möglich dem Gemüt des schlichten Menschen anzuschmiegen.»
URL:https://sinfonieorchester.ch/de/veranstaltung/5-arthur-waser-preistraegerkonzert/
LOCATION:KKL Luzern\, Konzertsaal\, Schweiz
CATEGORIES:Sinfoniekonzerte
END:VEVENT
END:VCALENDAR