BEGIN:VCALENDAR
VERSION:2.0
PRODID:-//Sinfonie Orchester - ECPv6.15.18//NONSGML v1.0//EN
CALSCALE:GREGORIAN
METHOD:PUBLISH
X-WR-CALNAME:Sinfonie Orchester
X-ORIGINAL-URL:https://sinfonieorchester.ch/de/
X-WR-CALDESC:Veranstaltungen für Sinfonie Orchester
REFRESH-INTERVAL;VALUE=DURATION:PT1H
X-Robots-Tag:noindex
X-PUBLISHED-TTL:PT1H
BEGIN:VTIMEZONE
TZID:Europe/Zurich
BEGIN:DAYLIGHT
TZOFFSETFROM:+0100
TZOFFSETTO:+0200
TZNAME:CEST
DTSTART:20230326T010000
END:DAYLIGHT
BEGIN:STANDARD
TZOFFSETFROM:+0200
TZOFFSETTO:+0100
TZNAME:CET
DTSTART:20231029T010000
END:STANDARD
BEGIN:DAYLIGHT
TZOFFSETFROM:+0100
TZOFFSETTO:+0200
TZNAME:CEST
DTSTART:20240331T010000
END:DAYLIGHT
BEGIN:STANDARD
TZOFFSETFROM:+0200
TZOFFSETTO:+0100
TZNAME:CET
DTSTART:20241027T010000
END:STANDARD
BEGIN:DAYLIGHT
TZOFFSETFROM:+0100
TZOFFSETTO:+0200
TZNAME:CEST
DTSTART:20250330T010000
END:DAYLIGHT
BEGIN:STANDARD
TZOFFSETFROM:+0200
TZOFFSETTO:+0100
TZNAME:CET
DTSTART:20251026T010000
END:STANDARD
END:VTIMEZONE
BEGIN:VEVENT
DTSTART;TZID=Europe/Zurich:20240612T100000
DTEND;TZID=Europe/Zurich:20240612T110000
DTSTAMP:20260420T193437
CREATED:20230602T045932Z
LAST-MODIFIED:20240430T212853Z
UID:10526-1718186400-1718190000@sinfonieorchester.ch
SUMMARY:Eroica! Ludwig van Beethovens 3. Sinfonie gratis für Schulklassen
DESCRIPTION:Auf eine Sinfonie ins KKL Luzern! Zum Saisonabschluss laden wir Schulklassen ein\, das Schulzimmer gegen den Konzertsaal einzutauschen und das Luzerner Sinfonieorchester live zu erleben. Zu hören gibt es eine Sinfonie\, die durch Moderationen\, Interviews und interaktive Elemente altersgerecht präsentiert wird. Zur Vorbereitung stellen wir einige Wochen im Voraus Unterrichtsmaterial auf unserer Homepage bereit und schicken euch spielerische Grüsse unserer Musikerinnen und Musiker.  Gratis Tickets können über das Kartenbüro bestellt werden.
URL:https://sinfonieorchester.ch/de/veranstaltung/eroica-fuer-schulklassen/
LOCATION:KKL Luzern\, Konzertsaal\, Schweiz
CATEGORIES:Musikvermittlung
END:VEVENT
END:VCALENDAR