BEGIN:VCALENDAR
VERSION:2.0
PRODID:-//Sinfonie Orchester - ECPv6.15.18//NONSGML v1.0//EN
CALSCALE:GREGORIAN
METHOD:PUBLISH
X-WR-CALNAME:Sinfonie Orchester
X-ORIGINAL-URL:https://sinfonieorchester.ch/de/
X-WR-CALDESC:Veranstaltungen für Sinfonie Orchester
REFRESH-INTERVAL;VALUE=DURATION:PT1H
X-Robots-Tag:noindex
X-PUBLISHED-TTL:PT1H
BEGIN:VTIMEZONE
TZID:Europe/Zurich
BEGIN:DAYLIGHT
TZOFFSETFROM:+0100
TZOFFSETTO:+0200
TZNAME:CEST
DTSTART:20210328T010000
END:DAYLIGHT
BEGIN:STANDARD
TZOFFSETFROM:+0200
TZOFFSETTO:+0100
TZNAME:CET
DTSTART:20211031T010000
END:STANDARD
BEGIN:DAYLIGHT
TZOFFSETFROM:+0100
TZOFFSETTO:+0200
TZNAME:CEST
DTSTART:20220327T010000
END:DAYLIGHT
BEGIN:STANDARD
TZOFFSETFROM:+0200
TZOFFSETTO:+0100
TZNAME:CET
DTSTART:20221030T010000
END:STANDARD
BEGIN:DAYLIGHT
TZOFFSETFROM:+0100
TZOFFSETTO:+0200
TZNAME:CEST
DTSTART:20230326T010000
END:DAYLIGHT
BEGIN:STANDARD
TZOFFSETFROM:+0200
TZOFFSETTO:+0100
TZNAME:CET
DTSTART:20231029T010000
END:STANDARD
END:VTIMEZONE
BEGIN:VEVENT
DTSTART;TZID=Europe/Zurich:20221201T123000
DTEND;TZID=Europe/Zurich:20221201T133000
DTSTAMP:20260421T122325
CREATED:20220511T205036Z
LAST-MODIFIED:20220623T085152Z
UID:2281-1669897800-1669901400@sinfonieorchester.ch
SUMMARY:Glass & Mahler – und das Jenseits
DESCRIPTION:Als Franz Schubert als Siebzehnjähriger 1814 mit seinem Goethe-Lied «Gretchen am Spinnrade» an die Öffentlichkeit gelangte\, schlug die Geburtsstunde des romantischen deutschen Klavierlieds und brach eine neue Ära an. «Du bist die Ruh» und «Nacht und Träume» zählen zu seinen vollendetsten musikalischen Traumgebilden. Dasselbe gilt auch für Mahlers «Ich bin der Welt abhanden gekommen»: ein tief berührender Abschied vom äusserlichen «Weltgetümmel»\, ein Rückzug ins eigene Ich\, ins eigene Lied. Auch «Urlicht» kündet von der Sehnsucht des Erdenmenschen nach dem Himmel und dem «ewig selig Leben». Mit seinen 75 klavierbegleiteten Liedern gebührt Richard Strauss ebenfalls ein würdiger Platz im Pantheon der bedeutenden Liedkomponisten. Ihr stimmungsvolles Liedprogramm krönen Martin Achrainer und Maki Namekawa mit einer Uraufführung von Philip Glass. Einer der meistgespielten lebenden Komponisten unserer Zeit beschäftigt sich hier das erste Mal mit dem klassischen Kunstlied in seiner reinsten Form: Stimme und Klavier.
URL:https://sinfonieorchester.ch/de/veranstaltung/glass-mahler-und-das-jenseits/
LOCATION:KKL Luzern\, Konzertsaal\, Schweiz
CATEGORIES:Kammermusik
END:VEVENT
END:VCALENDAR