BEGIN:VCALENDAR
VERSION:2.0
PRODID:-//Sinfonie Orchester - ECPv6.15.18//NONSGML v1.0//EN
CALSCALE:GREGORIAN
METHOD:PUBLISH
X-WR-CALNAME:Sinfonie Orchester
X-ORIGINAL-URL:https://sinfonieorchester.ch/de/
X-WR-CALDESC:Veranstaltungen für Sinfonie Orchester
REFRESH-INTERVAL;VALUE=DURATION:PT1H
X-Robots-Tag:noindex
X-PUBLISHED-TTL:PT1H
BEGIN:VTIMEZONE
TZID:Europe/Zurich
BEGIN:DAYLIGHT
TZOFFSETFROM:+0100
TZOFFSETTO:+0200
TZNAME:CEST
DTSTART:20230326T010000
END:DAYLIGHT
BEGIN:STANDARD
TZOFFSETFROM:+0200
TZOFFSETTO:+0100
TZNAME:CET
DTSTART:20231029T010000
END:STANDARD
BEGIN:DAYLIGHT
TZOFFSETFROM:+0100
TZOFFSETTO:+0200
TZNAME:CEST
DTSTART:20240331T010000
END:DAYLIGHT
BEGIN:STANDARD
TZOFFSETFROM:+0200
TZOFFSETTO:+0100
TZNAME:CET
DTSTART:20241027T010000
END:STANDARD
BEGIN:DAYLIGHT
TZOFFSETFROM:+0100
TZOFFSETTO:+0200
TZNAME:CEST
DTSTART:20250330T010000
END:DAYLIGHT
BEGIN:STANDARD
TZOFFSETFROM:+0200
TZOFFSETTO:+0100
TZNAME:CET
DTSTART:20251026T010000
END:STANDARD
END:VTIMEZONE
BEGIN:VEVENT
DTSTART;TZID=Europe/Zurich:20240322T093000
DTEND;TZID=Europe/Zurich:20240322T103000
DTSTAMP:20260422T163634
CREATED:20230531T160027Z
LAST-MODIFIED:20240208T091712Z
UID:10349-1711099800-1711103400@sinfonieorchester.ch
SUMMARY:Konzert für Schulklassen «Frederick und die Jahreszeiten»
DESCRIPTION:Lang war der Winter! Nach und nach haben die Mäuse all ihre Vorräte aufgefressen. Sie frieren und ihr Magen knurrt. «Warum hast du nichts gesammelt\, Frederick?» Doch die Maus Frederick hat andere Schätze gehortet: Wörter\, Farben und natürlich – Musik! Ein farbiges Mundart- Erzähl- Konzert nach dem Bilderbuch «Frederick» von Leo Lionni.
URL:https://sinfonieorchester.ch/de/veranstaltung/konzert-fuer-schulklassen-frederick-und-die-jahreszeiten/
LOCATION:Orchesterhaus\, Arsenalstrasse 28b\, Kriens\, 6010
CATEGORIES:Musikvermittlung
END:VEVENT
END:VCALENDAR