BEGIN:VCALENDAR
VERSION:2.0
PRODID:-//Sinfonie Orchester - ECPv6.15.18//NONSGML v1.0//EN
CALSCALE:GREGORIAN
METHOD:PUBLISH
X-WR-CALNAME:Sinfonie Orchester
X-ORIGINAL-URL:https://sinfonieorchester.ch/en/
X-WR-CALDESC:Events for Sinfonie Orchester
REFRESH-INTERVAL;VALUE=DURATION:PT1H
X-Robots-Tag:noindex
X-PUBLISHED-TTL:PT1H
BEGIN:VTIMEZONE
TZID:Europe/Zurich
BEGIN:DAYLIGHT
TZOFFSETFROM:+0100
TZOFFSETTO:+0200
TZNAME:CEST
DTSTART:20210328T010000
END:DAYLIGHT
BEGIN:STANDARD
TZOFFSETFROM:+0200
TZOFFSETTO:+0100
TZNAME:CET
DTSTART:20211031T010000
END:STANDARD
BEGIN:DAYLIGHT
TZOFFSETFROM:+0100
TZOFFSETTO:+0200
TZNAME:CEST
DTSTART:20220327T010000
END:DAYLIGHT
BEGIN:STANDARD
TZOFFSETFROM:+0200
TZOFFSETTO:+0100
TZNAME:CET
DTSTART:20221030T010000
END:STANDARD
BEGIN:DAYLIGHT
TZOFFSETFROM:+0100
TZOFFSETTO:+0200
TZNAME:CEST
DTSTART:20230326T010000
END:DAYLIGHT
BEGIN:STANDARD
TZOFFSETFROM:+0200
TZOFFSETTO:+0100
TZNAME:CET
DTSTART:20231029T010000
END:STANDARD
END:VTIMEZONE
BEGIN:VEVENT
DTSTART;TZID=Europe/Zurich:20221118T193000
DTEND;TZID=Europe/Zurich:20221118T213000
DTSTAMP:20260422T005840
CREATED:20220513T091459Z
LAST-MODIFIED:20221014T135747Z
UID:7414-1668799800-1668807000@sinfonieorchester.ch
SUMMARY:Closing concert of the first conducting workshop
DESCRIPTION:In conjunction with the awarding of an assistant conductor position for one year. \nConducting course for young conductors with the Luzerner Sinfonieorchester under the direction of principal conductor Michael Sanderling.\nAt the end of the course\, one participant will be selected for the newly created position of “Assistant to the Principal Conductor” for one year. \nThe course will take place from 15th-18th November 2022 in the Luzerner Sinfonieorchester Orchesterhaus in Kriens. The course is designed to give young conductors the opportunity to work with a professional orchestra at the highest level and to gain valuable practical experience. Participants will conduct works from the classical and early romantic periods. The course culminates in a public concert on 18th November 2022\, conducted by selected participants.
URL:https://sinfonieorchester.ch/en/veranstaltungen/abschlusskonzert-des-ersten-dirigierworkshops/
LOCATION:Orchesterhaus\, Arsenalstrasse 28b\, Kriens\, 6010
CATEGORIES:Symphony Concerts
END:VEVENT
END:VCALENDAR