BEGIN:VCALENDAR
VERSION:2.0
PRODID:-//Sinfonie Orchester - ECPv6.15.18//NONSGML v1.0//EN
CALSCALE:GREGORIAN
METHOD:PUBLISH
X-WR-CALNAME:Sinfonie Orchester
X-ORIGINAL-URL:https://sinfonieorchester.ch/en/
X-WR-CALDESC:Events for Sinfonie Orchester
REFRESH-INTERVAL;VALUE=DURATION:PT1H
X-Robots-Tag:noindex
X-PUBLISHED-TTL:PT1H
BEGIN:VTIMEZONE
TZID:Europe/Zurich
BEGIN:DAYLIGHT
TZOFFSETFROM:+0100
TZOFFSETTO:+0200
TZNAME:CEST
DTSTART:20230326T010000
END:DAYLIGHT
BEGIN:STANDARD
TZOFFSETFROM:+0200
TZOFFSETTO:+0100
TZNAME:CET
DTSTART:20231029T010000
END:STANDARD
BEGIN:DAYLIGHT
TZOFFSETFROM:+0100
TZOFFSETTO:+0200
TZNAME:CEST
DTSTART:20240331T010000
END:DAYLIGHT
BEGIN:STANDARD
TZOFFSETFROM:+0200
TZOFFSETTO:+0100
TZNAME:CET
DTSTART:20241027T010000
END:STANDARD
BEGIN:DAYLIGHT
TZOFFSETFROM:+0100
TZOFFSETTO:+0200
TZNAME:CEST
DTSTART:20250330T010000
END:DAYLIGHT
BEGIN:STANDARD
TZOFFSETFROM:+0200
TZOFFSETTO:+0100
TZNAME:CET
DTSTART:20251026T010000
END:STANDARD
END:VTIMEZONE
BEGIN:VEVENT
DTSTART;TZID=Europe/Zurich:20240612T193000
DTEND;TZID=Europe/Zurich:20240612T213000
DTSTAMP:20260421T103651
CREATED:20230531T160043Z
LAST-MODIFIED:20240208T121408Z
UID:10285-1718220600-1718227800@sinfonieorchester.ch
SUMMARY:«Eroica»
DESCRIPTION:With the first two tutti chords of the “Eroica”\, which strike like blows from out of nowhere\, Beethoven opened up a whole new world in the symphonic genre. Confident and self-assured\, he wrote to his publisher in 1802\, “I am not satisfied with my previous works; from now on I want to tread a different path.” One could almost speak of a “zero hour” in classical symphonic music\, the beginning of something entirely new\, greater in expression\, more expansive in its passion and more triumphant in its resolve. The title page reads “Sinfonia eroica” – a heroic symphony composed to celebrate the memory of a great man. The thematic material of the symphony seems to reveal his identity. It is partly taken from Beethoven’s ballet music\, “The Creatures of Prometheus”\, evoking the memory of the mythological Prometheus\, the “forward thinker” who wants to bring about intellectual emancipation through education and freedom through art. It also evokes the ideal of the true\, free and comprehensively educated human being. Beethoven found himself and his moral-aesthetic stance in this: “There is nothing nobler than to approach the Deity more closely than others and from there to spread the rays of the Deity across the human race. These rays still strike us directly today in every performance of the “Eroica”.
URL:https://sinfonieorchester.ch/en/veranstaltungen/eroica/
LOCATION:KKL Luzern\, Konzertsaal\, Schweiz
CATEGORIES:Symphony Concerts
END:VEVENT
END:VCALENDAR