BEGIN:VCALENDAR
VERSION:2.0
PRODID:-//Sinfonie Orchester - ECPv6.15.18//NONSGML v1.0//EN
CALSCALE:GREGORIAN
METHOD:PUBLISH
X-WR-CALNAME:Sinfonie Orchester
X-ORIGINAL-URL:https://sinfonieorchester.ch/en/
X-WR-CALDESC:Events for Sinfonie Orchester
REFRESH-INTERVAL;VALUE=DURATION:PT1H
X-Robots-Tag:noindex
X-PUBLISHED-TTL:PT1H
BEGIN:VTIMEZONE
TZID:Europe/Zurich
BEGIN:DAYLIGHT
TZOFFSETFROM:+0100
TZOFFSETTO:+0200
TZNAME:CEST
DTSTART:20220327T010000
END:DAYLIGHT
BEGIN:STANDARD
TZOFFSETFROM:+0200
TZOFFSETTO:+0100
TZNAME:CET
DTSTART:20221030T010000
END:STANDARD
BEGIN:DAYLIGHT
TZOFFSETFROM:+0100
TZOFFSETTO:+0200
TZNAME:CEST
DTSTART:20230326T010000
END:DAYLIGHT
BEGIN:STANDARD
TZOFFSETFROM:+0200
TZOFFSETTO:+0100
TZNAME:CET
DTSTART:20231029T010000
END:STANDARD
BEGIN:DAYLIGHT
TZOFFSETFROM:+0100
TZOFFSETTO:+0200
TZNAME:CEST
DTSTART:20240331T010000
END:DAYLIGHT
BEGIN:STANDARD
TZOFFSETFROM:+0200
TZOFFSETTO:+0100
TZNAME:CET
DTSTART:20241027T010000
END:STANDARD
END:VTIMEZONE
BEGIN:VEVENT
DTSTART;TZID=Europe/Zurich:20230202T193000
DTEND;TZID=Europe/Zurich:20230202T213000
DTSTAMP:20260421T121638
CREATED:20220513T141150Z
LAST-MODIFIED:20220720T153539Z
UID:7442-1675366200-1675373400@sinfonieorchester.ch
SUMMARY:Community concert «Desk by Desk»
DESCRIPTION:With his 15 symphonies\, Shostakovich proved to be the most important symphonist to continue the great Romantic tradition up to and including Gustav Mahler. His identity as a genuine symphonist was sometimes also evident in his chamber music\, especially in the 15 string quartets\, so it was only natural that Rudolf Barshai\, himself one of the most profound interpreters of Shostakovich\, should create an orchestrated version of four string quartets. The Chamber Symphony op. 110a is based on Shostakovich’s famous String Quartet No. 8\, dedicated “to the memory of the victims of fascism and war”. Brahms also considered himself to be continuing the classical tradition in taking up traditional forms and techniques such as the symphony\, hoping to revive them in his own way. This was easier said than done\, as such a tradition was also an inhibiting burden. It took almost twenty years of experimentation before Brahms\, by then 47 years old\, could present his first symphony. But it was well worth the wait. His first symphonic work was a masterpiece. Contemporaries admiringly called this first symphony “Beethoven’s Tenth”.a
URL:https://sinfonieorchester.ch/en/veranstaltungen/gemeinschaftskonzert-pult-an-pult/
LOCATION:KKL Luzern\, Konzertsaal\, Schweiz
CATEGORIES:Symphony Concerts
END:VEVENT
END:VCALENDAR