BEGIN:VCALENDAR
VERSION:2.0
PRODID:-//Sinfonie Orchester - ECPv6.15.18//NONSGML v1.0//EN
CALSCALE:GREGORIAN
METHOD:PUBLISH
X-WR-CALNAME:Sinfonie Orchester
X-ORIGINAL-URL:https://sinfonieorchester.ch/en/
X-WR-CALDESC:Events for Sinfonie Orchester
REFRESH-INTERVAL;VALUE=DURATION:PT1H
X-Robots-Tag:noindex
X-PUBLISHED-TTL:PT1H
BEGIN:VTIMEZONE
TZID:Europe/Zurich
BEGIN:DAYLIGHT
TZOFFSETFROM:+0100
TZOFFSETTO:+0200
TZNAME:CEST
DTSTART:20220327T010000
END:DAYLIGHT
BEGIN:STANDARD
TZOFFSETFROM:+0200
TZOFFSETTO:+0100
TZNAME:CET
DTSTART:20221030T010000
END:STANDARD
BEGIN:DAYLIGHT
TZOFFSETFROM:+0100
TZOFFSETTO:+0200
TZNAME:CEST
DTSTART:20230326T010000
END:DAYLIGHT
BEGIN:STANDARD
TZOFFSETFROM:+0200
TZOFFSETTO:+0100
TZNAME:CET
DTSTART:20231029T010000
END:STANDARD
BEGIN:DAYLIGHT
TZOFFSETFROM:+0100
TZOFFSETTO:+0200
TZNAME:CEST
DTSTART:20240331T010000
END:DAYLIGHT
BEGIN:STANDARD
TZOFFSETFROM:+0200
TZOFFSETTO:+0100
TZNAME:CET
DTSTART:20241027T010000
END:STANDARD
END:VTIMEZONE
BEGIN:VEVENT
DTSTART;TZID=Europe/Zurich:20230328T193000
DTEND;TZID=Europe/Zurich:20230328T213000
DTSTAMP:20260421T133845
CREATED:20220513T152651Z
LAST-MODIFIED:20221013T073514Z
UID:7498-1680031800-1680039000@sinfonieorchester.ch
SUMMARY:In the «Salon Symphonique» with Elisabeth Leonskaja
DESCRIPTION:When she steps onto the stage\, Elisabeth Leonskaja is reminiscent of a benevolent Grand Duchess from the world of Tolstoy. She immediately fills the listener with confidence\, whatever she plays. With good reason\, she is revered worldwide as the grande dame of the Russian piano tradition\, despite having lived in Vienna for 40 years and feeling just as much at home with Mozart as with the great romantic piano composers. Feelings are just as important here as sounds\, and that is precisely what wins us over in Elisabeth Leonskaja’s miraculous sonorities\, which are always structurally clear\, at times lyrically entwined and even emphatically austere. Playing the piano means infinitely more to her than just making music. «Why do we give concerts? So that people can forget themselves for a while\, so that they can immerse themselves in a completely different world and purify themselves\, so to speak.» She describes a cathartic effect\, almost as in ancient Greek tragedy. «Music is healing. I feel a responsibility to bring out the truth of life and the purity that are inherent in music.»
URL:https://sinfonieorchester.ch/en/veranstaltungen/im-salon-symphonique-mit-elisabeth-leonskaja/
LOCATION:Orchesterhaus\, Arsenalstrasse 28b\, Kriens\, 6010
CATEGORIES:Chamber Music
END:VEVENT
END:VCALENDAR