BEGIN:VCALENDAR
VERSION:2.0
PRODID:-//Sinfonie Orchester - ECPv6.15.18//NONSGML v1.0//EN
CALSCALE:GREGORIAN
METHOD:PUBLISH
X-WR-CALNAME:Sinfonie Orchester
X-ORIGINAL-URL:https://sinfonieorchester.ch/en/
X-WR-CALDESC:Events for Sinfonie Orchester
REFRESH-INTERVAL;VALUE=DURATION:PT1H
X-Robots-Tag:noindex
X-PUBLISHED-TTL:PT1H
BEGIN:VTIMEZONE
TZID:Europe/Zurich
BEGIN:DAYLIGHT
TZOFFSETFROM:+0100
TZOFFSETTO:+0200
TZNAME:CEST
DTSTART:20220327T010000
END:DAYLIGHT
BEGIN:STANDARD
TZOFFSETFROM:+0200
TZOFFSETTO:+0100
TZNAME:CET
DTSTART:20221030T010000
END:STANDARD
BEGIN:DAYLIGHT
TZOFFSETFROM:+0100
TZOFFSETTO:+0200
TZNAME:CEST
DTSTART:20230326T010000
END:DAYLIGHT
BEGIN:STANDARD
TZOFFSETFROM:+0200
TZOFFSETTO:+0100
TZNAME:CET
DTSTART:20231029T010000
END:STANDARD
BEGIN:DAYLIGHT
TZOFFSETFROM:+0100
TZOFFSETTO:+0200
TZNAME:CEST
DTSTART:20240331T010000
END:DAYLIGHT
BEGIN:STANDARD
TZOFFSETFROM:+0200
TZOFFSETTO:+0100
TZNAME:CET
DTSTART:20241027T010000
END:STANDARD
END:VTIMEZONE
BEGIN:VEVENT
DTSTART;TZID=Europe/Zurich:20231124T093000
DTEND;TZID=Europe/Zurich:20231124T103000
DTSTAMP:20260420T231153
CREATED:20230531T160059Z
LAST-MODIFIED:20230626T092054Z
UID:10347-1700818200-1700821800@sinfonieorchester.ch
SUMMARY:Concert for school classes "Five cheeky mice make music"
DESCRIPTION:“Only for frogs” is the concert that the frog choir gives on a full moon night at the lake. The mice think this is mean and start building their own instruments. They give a rousing concert that makes the frogs green with envy. But of course the frog choir is also allowed to join in\, because only together does it sound really good! Musicians of the Lucerne Symphony Orchestra play in chamber music formation\, students of the HSLU – Music transform music and history into movement\, and for a really groovy concert you also need the audience at the end. A moving concert based on the picture book of the same name by Chisato Tashiro.
URL:https://sinfonieorchester.ch/en/veranstaltungen/konzert-fuer-schulklassen-fuenf-freche-maeuse-machen-musik/
LOCATION:Orchesterhaus\, Arsenalstrasse 28b\, Kriens\, 6010
CATEGORIES:Music Education
END:VEVENT
END:VCALENDAR