BEGIN:VCALENDAR
VERSION:2.0
PRODID:-//Sinfonie Orchester - ECPv6.15.18//NONSGML v1.0//EN
CALSCALE:GREGORIAN
METHOD:PUBLISH
X-WR-CALNAME:Sinfonie Orchester
X-ORIGINAL-URL:https://sinfonieorchester.ch/en/
X-WR-CALDESC:Events for Sinfonie Orchester
REFRESH-INTERVAL;VALUE=DURATION:PT1H
X-Robots-Tag:noindex
X-PUBLISHED-TTL:PT1H
BEGIN:VTIMEZONE
TZID:Europe/Zurich
BEGIN:DAYLIGHT
TZOFFSETFROM:+0100
TZOFFSETTO:+0200
TZNAME:CEST
DTSTART:20210328T010000
END:DAYLIGHT
BEGIN:STANDARD
TZOFFSETFROM:+0200
TZOFFSETTO:+0100
TZNAME:CET
DTSTART:20211031T010000
END:STANDARD
BEGIN:DAYLIGHT
TZOFFSETFROM:+0100
TZOFFSETTO:+0200
TZNAME:CEST
DTSTART:20220327T010000
END:DAYLIGHT
BEGIN:STANDARD
TZOFFSETFROM:+0200
TZOFFSETTO:+0100
TZNAME:CET
DTSTART:20221030T010000
END:STANDARD
BEGIN:DAYLIGHT
TZOFFSETFROM:+0100
TZOFFSETTO:+0200
TZNAME:CEST
DTSTART:20230326T010000
END:DAYLIGHT
BEGIN:STANDARD
TZOFFSETFROM:+0200
TZOFFSETTO:+0100
TZNAME:CET
DTSTART:20231029T010000
END:STANDARD
END:VTIMEZONE
BEGIN:VEVENT
DTSTART;TZID=Europe/Zurich:20221104T123000
DTEND;TZID=Europe/Zurich:20221104T133000
DTSTAMP:20260424T230038
CREATED:20220511T192712Z
LAST-MODIFIED:20220720T153953Z
UID:7406-1667565000-1667568600@sinfonieorchester.ch
SUMMARY:Les Goûts-Réunis
DESCRIPTION:François Couperin gave the name “Concerts Royaux” to a collection of four concertos published in 1722 as an appendix to his “Troisième Livre de pièces de Clavecin”. “Je les avois faites pour les petits Concerts de chambre”\, he wrote in the preface. Two years later\, a further collection of concertos was printed under the title “Les Goûts-Réunis”. This title would also fit the programme of this lunch concert perfectly: a musical voyage of discovery through the colourful world of Baroque music and its various “goûts” and styles. Baroque culture flourished in France in a very different way than in Italy\, with Germany always keen to follow suit. Johann Sebastian Bach\, for example\, arranged a number of Italian Baroque concertos for harpsichord\, including those by Antonio Vivaldi and Benedetto Marcello. After all\, it was desirable to be experienced and productive in all styles and tastes. In order that we don’t lose our footing on this Baroque voyage of discovery\, Lucie Horsch and Justin Taylor keep us grounded with two works from the more familiar 20th century\, Debussy’s immortal “Syrinx” and the “The Actor with the Monkey” by Isang Yun.
URL:https://sinfonieorchester.ch/en/veranstaltungen/les-gouts-reunis/
LOCATION:KKL Luzern\, Konzertsaal\, Schweiz
CATEGORIES:Chamber Music
END:VEVENT
END:VCALENDAR