BEGIN:VCALENDAR
VERSION:2.0
PRODID:-//Sinfonie Orchester - ECPv6.15.18//NONSGML v1.0//EN
CALSCALE:GREGORIAN
METHOD:PUBLISH
X-WR-CALNAME:Sinfonie Orchester
X-ORIGINAL-URL:https://sinfonieorchester.ch/en/
X-WR-CALDESC:Events for Sinfonie Orchester
REFRESH-INTERVAL;VALUE=DURATION:PT1H
X-Robots-Tag:noindex
X-PUBLISHED-TTL:PT1H
BEGIN:VTIMEZONE
TZID:Europe/Zurich
BEGIN:DAYLIGHT
TZOFFSETFROM:+0100
TZOFFSETTO:+0200
TZNAME:CEST
DTSTART:20220327T010000
END:DAYLIGHT
BEGIN:STANDARD
TZOFFSETFROM:+0200
TZOFFSETTO:+0100
TZNAME:CET
DTSTART:20221030T010000
END:STANDARD
BEGIN:DAYLIGHT
TZOFFSETFROM:+0100
TZOFFSETTO:+0200
TZNAME:CEST
DTSTART:20230326T010000
END:DAYLIGHT
BEGIN:STANDARD
TZOFFSETFROM:+0200
TZOFFSETTO:+0100
TZNAME:CET
DTSTART:20231029T010000
END:STANDARD
BEGIN:DAYLIGHT
TZOFFSETFROM:+0100
TZOFFSETTO:+0200
TZNAME:CEST
DTSTART:20240331T010000
END:DAYLIGHT
BEGIN:STANDARD
TZOFFSETFROM:+0200
TZOFFSETTO:+0100
TZNAME:CET
DTSTART:20241027T010000
END:STANDARD
END:VTIMEZONE
BEGIN:VEVENT
DTSTART;TZID=Europe/Zurich:20231206T193000
DTEND;TZID=Europe/Zurich:20231206T213000
DTSTAMP:20260423T033442
CREATED:20230531T160000Z
LAST-MODIFIED:20231106T161034Z
UID:10220-1701891000-1701898200@sinfonieorchester.ch
SUMMARY:Michael Sanderling conducts Mozart and Mahler
DESCRIPTION:Of Mozart’s 27 piano concertos\, only two are in a minor key. For that reason alone they are outstanding\, but even more so for their artistic perfection. The D minor concerto is perhaps his most imortant piano concerto\, and certainly his most personal. Never before was the opening of a piano concerto so passionate\, wild and rebellious. Thanks to itseminent intensity of expression\, which already looks ahead to the Romantic period\, the work soon became a favourite in the 19th century.  \nMahler’s Fourth Symphony takes us to a lighter world – a last look back at the idyllic world of Romanticism that is once again evoked here. A longing for innocence and childlike naivety is echoed in this peerless music\, and the final movement with its calm ending suggests an ascension to heaven.“We enjoy heavenly pleasures and therefore avoid earthly ones\,” sings the soprano soloist\, leading into a childlike praise of St. Cecilia\, the patron saint of musicians and music. This concert of angels\, incomparable to any earthly music\, quietly ends the symphony\, in sublime detachment from all “worldly tumult”.
URL:https://sinfonieorchester.ch/en/veranstaltungen/michael-sanderling-dirigiert-mozart-und-mahler/
LOCATION:KKL Luzern\, Konzertsaal\, Schweiz
CATEGORIES:Symphony Concerts
END:VEVENT
END:VCALENDAR