BEGIN:VCALENDAR
VERSION:2.0
PRODID:-//Sinfonie Orchester - ECPv6.15.18//NONSGML v1.0//EN
CALSCALE:GREGORIAN
METHOD:PUBLISH
X-WR-CALNAME:Sinfonie Orchester
X-ORIGINAL-URL:https://sinfonieorchester.ch/en/
X-WR-CALDESC:Events for Sinfonie Orchester
REFRESH-INTERVAL;VALUE=DURATION:PT1H
X-Robots-Tag:noindex
X-PUBLISHED-TTL:PT1H
BEGIN:VTIMEZONE
TZID:Europe/Zurich
BEGIN:DAYLIGHT
TZOFFSETFROM:+0100
TZOFFSETTO:+0200
TZNAME:CEST
DTSTART:20220327T010000
END:DAYLIGHT
BEGIN:STANDARD
TZOFFSETFROM:+0200
TZOFFSETTO:+0100
TZNAME:CET
DTSTART:20221030T010000
END:STANDARD
BEGIN:DAYLIGHT
TZOFFSETFROM:+0100
TZOFFSETTO:+0200
TZNAME:CEST
DTSTART:20230326T010000
END:DAYLIGHT
BEGIN:STANDARD
TZOFFSETFROM:+0200
TZOFFSETTO:+0100
TZNAME:CET
DTSTART:20231029T010000
END:STANDARD
BEGIN:DAYLIGHT
TZOFFSETFROM:+0100
TZOFFSETTO:+0200
TZNAME:CEST
DTSTART:20240331T010000
END:DAYLIGHT
BEGIN:STANDARD
TZOFFSETFROM:+0200
TZOFFSETTO:+0100
TZNAME:CET
DTSTART:20241027T010000
END:STANDARD
END:VTIMEZONE
BEGIN:VEVENT
DTSTART;TZID=Europe/Zurich:20230118T193000
DTEND;TZID=Europe/Zurich:20230118T213000
DTSTAMP:20260421T104135
CREATED:20220513T134915Z
LAST-MODIFIED:20220720T153651Z
UID:7434-1674070200-1674077400@sinfonieorchester.ch
SUMMARY:New York 1925 –  Los Angeles 1937
DESCRIPTION:His “Rhapsody in Blue” of 1924 quickly turned out to be a hit with the public\, and so the New Yorker George Gershwin\, inspired by such success\, followed it up only one year later with a Piano Concerto in F. With its ingenious mixture of classical form and jazzy sound\, this piece also became an international success. “Since then\, these two works by Gershwin have come to fundamentally embody the essence of American music\,” says Jean-Yves Thibaudet. And swing is central to this music: “If you don’t swing\, you don’t play the Concerto in F. It quite clearly has a foot in each camp\, and I like this ambiguity.” The second work in this concert programme is also ambiguous. It was the great conductor Otto Klemperer who persuaded Arnold Schoenberg in Los Angeles in 1937 to orchestrate Brahms’ G minor Piano Quartet. Here\, Romanticism is cloaked in the sound world of a twelve-tone musician. “All I had to do was transfer this sound to the orchestra\, and that’s all I did\,” Schönberg said with typical understatement. However\, Otto Klemperer was deeply impressed and full of praise: “One doesn‘t even want to hear the original quartet any more\, the arrangement sounds so beautiful.”
URL:https://sinfonieorchester.ch/en/veranstaltungen/new-york-1925-los-angeles-1937/
LOCATION:KKL Luzern\, Konzertsaal\, Schweiz
CATEGORIES:Symphony Concerts
END:VEVENT
END:VCALENDAR